Workbook
Name statut: 'Plan d''actions'!$I$1:$I$4

Sheet Avant-propos
B8: L’Omédit Normandie et le réseau Qual’Va ont créé ces grilles d'auto-évaluation afin de vous permettre de mieux répondre aux exigences de la HAS. L’auto-évaluation n’est pas obligatoire dans l'évaluation HAS. Toutefois, l’ESSMS est encouragé à réaliser une auto-évaluation pour alimenter la dynamique d’amélioration continue de la qualité. Elle permet également à la structure de se familiariser avec la nouvelle démarche d’évaluation, de permettre aux professionnels de s’approprier les exigences du référentiel et de mettre à jour le plan d’action qualité. Ces grilles ont pour but de vous aider à évaluer le management de la qualité et la gestion des risques autour de la prise en charge médicamenteuse.
B9: Ces grilles d'audit sont prioritairement destinées aux structures suivantes : Institut d'éducation motrice (IEM) ; Institut médico-éducatif (IME) ; Institut médico-pédagogique (IMP) ; Institut médico-professionnel (IMPRO) ; Institut thérapeutique, éducatif et pédagogique (ITEP), Etablissement pour enfant et adolescents polyhandicapés (EEAP) ; Maison d'accueil spécialisé (MAS), Foyer d'accueil médicalisé (FAM)
B10: Comment procéder? 1- Remplir l'onglet "Informations générales" par l'établissement audité 2- Remplir la grille "Audit flash" (évaluation à réaliser tous les 6 à 12 mois) Composition recommandée pour la réalisation de l'auto-évaluation : Référent PECM, Médecin Coordonnateur, IDEC ou Cadre, IDE, AS, Pharmacien et Préparateur 3- Pour les FAM, MAS et EEAP : Remplir la grille "Audit dossiers". Les 3 (minimum) à 5 (idéalement) dossiers doivent idéalement porter parmis 9 les profils listés ci-dessous : - 1 sortie d'hospitalisation/consultation récente - 1 personne accompagnée traitée pour une douleur par opioïde ou autre antalgique - 1 personne accompagnée sous Neuroleptique à Action Prolongée - 1 personne accompagnée traitée pour une épilepsie - 1 personne accompagnée ayant été traitée par une antibiothérapie dans les 3 derniers mois - 1 personne accompagnée sous Inhibiteur de pompe à protons - 1 arrivée récente d'une personne accompagnée - 1 personne accompagnée sous Antidépresseur - 1 personne accompagnée avec une sonde GPE (Gastrostomie percutanée par voie endoscopique) 4- Remplir la grille "Audit terrain" (évaluation à réaliser tous les 2 à 3 ans) en tenant compte des éléments vus lors de la visite du service, entendus lors des entretiens avec les professionnels et lus lors des observations faites. 5- A partir de vos observations, remplir la synthèse des "Points forts" et "Points à améliorer" de l'onglet "Résultats". Les tableaux et graphiques se calculent automatiquement en fonction des réponses saisies dans les grilles "Auto Evaluation", "Audit 3 dossiers" et "Audit terrain". 6- A partir de la synthèse de ces grilles compléter votre plan d'actions.
B12: Glossaire PECM : Prise en charge médicamenteuse PUI : Pharmacie à usage interne CVS : Conseil de la Vie Sociale FEI : Fiche d'évènement indésirable EI : Evènement indésirable CRPV : Centre Régional de PharmacoVigilance ANSM : Agence Nationale de Sécurité du Médicament et des produits de santé DCI : Dénomination commune internationale RSM : Responsable Système Management GDR : Gestionnaire des risques
B14: Groupe de travail
B16: Nous tenions à remercier les établissements suivants pour leur participation au groupe de travail, pour la relecture et la réalisation des tests de la grille :
B17: Grégoire Brunel, médecin à la Ligue havraise
B18: Maud Pariset, médecin coordonnateur, Association le Pré de la Bataille
B19: Anne Le Prieur, médecin coordonnateur, APF France Handicap - FAM Tempo
B20: Delphine Gicquel, responsable service soins, APF France Handicap - FAM Tempo
B21: Severine Hebert, coordinatrice des soins, Ligue havraise
B22: Anne-Sophie Decosse, médecin coordonnateur, Bercail Saint Denis
... B29: Marine David, infirmière de l'IMP, Association Etennemare

Sheet Informations générales
B10: Identification de l'établissement
B12: Type d'ESSMS : | K12: IME
K13: IEM
B14: Nom de l'ESSMS : | K14: ITEP
K15: IMPRO
B16: Nombre de personnes accompagnées : | K16: IMP
K17: MAS
B18: ESSMS avec ou sans PUI : | K18: FAM
K19: EEAP
B20: Présence d'IDE la nuit : | K20: Autre
B22: Unité / Accueil spécifique :
B25: Audit flash
B27: Date de l'audit flash
B29: Nom des auditeurs :
B32: Audit sur dossiers
B34: Date de l'audit :
B36: Nom des auditeurs :
B39: Audit terrain
B41: Date de l'audit :
B43: Nom des auditeurs :

Sheet Audit flash
A8: Stratégie de la prise en charge médicamenteuse (PECM)
A9: Num | B9: Libellé | C9: Lien avec le critère du référentiel | D9: Eléments d'appréciation | E9: Réponses (renseigner la date) | H9: Commentaire
E10: ../../…. | F10: ../../…. | G10: ../../….
A11: Stratégie et enjeux de la sécurisation de la prise en charge médicamenteuse (PECM)
A12: 1 | B12: Une politique de gestion du risque médicamenteux est présentée dans le projet d'établissement, le projet de soin | C12: 3.6.1 - L'ESSMS définit sa stratégie de gestion du risque médicamenteux et s'assure de sa mise en œuvre | D12: Interview Direction, Chefs de services, RSM (Responsable Système Management), GDR (Gestionnaire des risques). Analyser la forme, le contenu : elle doit prendre en compte les particularités de l’ESSMS : spécificité de la population accueillie qui peut présenter différents risques (âge, troubles cognitifs et/ou moteurs, troubles de la déglutition, perte d’autonomie, la disponibilité des ressources humaines (la nuit et le week-end, les jours fériés, le temps de présence médical), modalités d'accueil et implication des proches (hébergement, accueil séquentiel, etc). Elle doit se décliner dans une procédure opérationnelle diffusée auprès des professionnels impliqués dans la PECM.
A13: 2 | B13: L'organisation du circuit du médicament est abordée dans le cadre du conseil de la vie sociale | C13: 3.6.1 - L'ESSMS définit sa stratégie de gestion du risque médicamenteux et s'assure de sa mise en œuvre | D13: La personne accompagnée et ses aidants sont impliqués aux réflexions portées pour améliorer la PECM. Interroger direction, familles
A14: 3 | B14: Existe-t-il un référent PECM identifié et connu au sein de l'établissement | C14: 3.6.1 - L'ESSMS définit sa stratégie de gestion du risque médicamenteux et s'assure de sa mise en œuvre | D14: Voir fiche de poste et interroger RPECM sur effectivité, temps consacré
A15: 4 | B15: L'établissement a communiqué en interne sur les enjeux de la sécurisation de la PECM et les risques d'erreurs médicamenteuses | C15: 3.6.1 - L'ESSMS définit sa stratégie de gestion du risque médicamenteux et s'assure de sa mise en œuvre | D15: Voir éléments de communication interne, interroger direction RPECM
A16: 5 | B16: L'établissement a schématisé les étapes du circuit du médicament. Ce schéma est à jour et est facilement consultable par tous | C16: 3.6.1 - L'ESSMS définit sa stratégie de gestion du risque médicamenteux et s'assure de sa mise en œuvre | D16: Organisation de la PECM : étape, acteur et points de vigilance
A17: 6 | B17: L'établissement a constitué et réuni un comité PECM | C17: 3.6.1 - L'ESSMS définit sa stratégie de gestion du risque médicamenteux et s'assure de sa mise en œuvre | D17: Comité expertise des soins. Dernier compte-rendu (date, composition, thème abordé)
A18: 7 | B18: Le médecin coordonnateur, en lien avec le pharmacien référent, définit les objectifs spécifiques à votre établissement pour améliorer certaines pratiques de prescription (médicament potentiellement inapproprié comme IPP, psychotropes..., adaptation de posologie /forme galénique…) | C18: 3.6.1 - L'ESSMS définit sa stratégie de gestion du risque médicamenteux et s'assure de sa mise en œuvre | D18: Interviewer médecin coordonnateur et pharmacien référent : thèmes à préciser
A19: 8 | B19: L'établissement réalise une évaluation de la PECM avec une périodicité définie | C19: 3.6.1 - L'ESSMS définit sa stratégie de gestion du risque médicamenteux et s'assure de sa mise en œuvre | D19: Auto-évaluation type Qual'Va/OMéDIT Le circuit du médicament est évalué/réévalué régulièrement et/ou lors de modification notable des pratiques (informatisation, mise en place d’un système de PDA externalisé, évolutions réglementaires …) ou lors d’évènements indésirables liés à l’organisation du circuit. L'évaluation permet d’identifier les écarts et de proposer des actions d’amélioration et leur suivi.
A20: 9 | B20: Un plan d'action personnalisé est mis en place à la suite d'un auto-diagnostic, de l'analyse des évènements indésirables et des situations à risque | C20: 3.6.1 - L'ESSMS définit sa stratégie de gestion du risque médicamenteux et s'assure de sa mise en œuvre 3.13.1 - L’ESSMS organise le recueil et le traitement des évènements indésirables. | D20: Voir plan d'actions / situations à risques identifiées et date
A21: 10 | B21: Les personnes accompagnées présentant des risques dans la prise en charge médicamenteuse sont identifiées | C21: 1.15.6 - Les professionnels repèrent de manière précoce les risques en santé pour la personne accompagnée et alertent les personnes-ressources | D21: Troubles de déglutition, troubles du comportement, troubles mnésiques et mentaux, risque de iatrogénie. Interviewer Direction, IDEC, médecin coordonnateur et pharmacien référent
A22: 11 | B22: Les professionnels dans votre établissement ont coconstruit la stratégie de prise en charge de la douleur des personnes accompagnées avec une réévaluation régulière | C22: 1.16.4 – Les professionnels coconstruisent avec la personne accompagnée, la stratégie de prise en charge de la douleur | D22: Interviewer Direction, IDEC, médecin coordonnateur et pharmacien référent. + Consultation documentaire : - Traçabilité dans le dossier de la personne accompagnée de la stratégie de prise en charge de la douleur - Procédure d’évaluation et de réévaluation de la douleur
A23: 12 | B23: Vous avez identifié dans votre établissement des médicaments "à risque" (psychotrope, anticoagulant, insuline, médicament stupéfiant ou assimilé stupéfiant (ex: Morphine, Oxycodone, Fentanyl, Midazolam…) et mis en place des dispositions spécifiques de gestion / préparation / administration | C23: 3.6.1 - L'ESSMS définit sa stratégie de gestion du risque médicamenteux et s'assure de sa mise en œuvre | D23: Interviewer Direction, IDEC, médecin coordonnateur et pharmacien référent
... A25: 14 | B25: Pour les établissements sans pharmacie à usage interne (PUI), une convention relative aux prestations pharmaceutiques existe entre votre établissement et la pharmacie d'officine. Pour les établissements avec PUI, une procédure définit les liens organisationnels avec la PUI | C25: 3.6.1 - L'ESSMS définit sa stratégie de gestion du risque médicamenteux et s'assure de sa mise en œuvre | D25: Elle mentionne notamment les modalités : - de dispensation (analyse de l'ordonnance, délivrance des médicaments, mise à disposition des informations et conseils nécessaires au bon usage des médicaments, la préparation éventuelle des doses à administrer (PDA) - de livraison - de détention/stockage - de gestion des médicaments périmés - la gestion des alertes sanitaires… Liens organisationnels : heure et jour de délivrance, modalités de commandes, bons d'urgence Pharmacien référent désigné. Interviewer pharmacien, voir convention ou procédure
A26: Evènements indésirables
A27: 15 | B27: Une fiche de signalement des évènements indésirables médicamenteux est à disposition des professionnels | C27: 3.13.1 - L'ESSMS organise le recueil et le traitement des évènements indésirables | D27: Interviewer équipes soignantes. Voir fiche et accessibilité / connaissance des équipes
A28: 16 | B28: L'équipe soignante est sensibilisée et incitée au signalement des évènements indésirables liés aux médicaments ou dispositifs médicaux. Une procédure existe, est connue et facilement consultable. Une charte d'incitation à la déclaration ou document équivalent existe | C28: 3.13.4 - Les professionnels sont régulièrement sensibilisés et/ou formés à la gestion des évènements indésirables | D28: Interviewer équipes soignantes. Charte d'incitation à la déclaration. Voir accessibilité/diffusion Les professionnels doivent savoir repérer une situation inhabituelle pouvant être en lien avec la PECM et la signaler. Les modalités de signalement doivent être formalisées et adaptées au niveau de gravité de la situation.
A29: 17 | B29: Une analyse collective des évènements indésirables est organisée. Un plan d'action avec pilote, suivi et délai est mis en place | C29: 3.13.3 - Les professionnels déclarent et analysent en équipe les évènements indésirables et mettent en place des actions correctives | D29: Interviewer direction, cadre, RPECM. Voir procédure ou tout autre document institutionnel validé
A30: 18 | B30: Une communication sur le traitement des évènements indésirables est organisée | C30: 3.13.2 - L'ESSMS communique sur le traitement des évènements indésirables auprès des parties prenantes | D30: Interviewer équipes soignantes. Voir dernières communications
A31: 19 | B31: Les évènements indésirables graves médicamenteux sont signalés sur le portail national | C31: 3.13.1 - L'ESSMS organise le recueil et le traitement des évènements indésirables | D31: Interviewer équipes soignantes
A32: Protocoles / procédures
A33: 20 | B33: Il existe une procédure générale et des protocoles sur l'ensemble du processus de prise en charge médicamenteuse définissant les responsabilités de chacun, actualisés/revalidés régulièrement autant que besoin. Il existe une procédure sur les pratiques en terme de distribution, d'administration, d'aide à la prise et de surveillance des personnes accompagnées, de gestion des médicaments en gouttes, de traçabilité (vérification des piluliers, aide à la prise, etc.), de stockage des médicaments Ces documents sont accessibles et connus par les équipes médicales et soignantes | C33: 3.6.1 - L'ESSMS définit sa stratégie de gestion du risque médicamenteux et s'assure de sa mise en œuvre 3.6.2 - Les professionnels respectent la sécurisation du circuit du médicament | D33: Interviewer les équipes médicales et soignantes : documents sont accessibles et connus Organisation de la PECM définie pour chaque étape : acteurs / prescription, …, aide à la prise - y compris nuit, week-end, jours fériés, urgences, gestion des traitements en gouttes… Chaque professionnel dispose d’un accès personnel au dossier informatisé tenant compte de son habilitation.
A34: 21 | B34: Un protocole décrit la conduite à tenir en cas d'impossibilité d'accéder au logiciel informatique de soins ou de prescriptions (panne informatique, panne réseau…) | C34: 3.15.2 - L'ESSMS définit et déploie sa stratégie numérique. | D34: Interviewer les équipes médicales et soignantes : modalités de fonctionnement en mode dégradé (remise en fonctionnement, supports disponibles et contrôles associés)
A35: 22 | B35: Une liste préférentielle des médicaments est élaborée (liste des médicaments à utiliser préférentiellement, par classes pharmaco-thérapeutiques) et connue par les médecins traitants et l'équipe soignante | C35: 3.6.1 - L'ESSMS définit sa stratégie de gestion du risque médicamenteux et s'assure de sa mise en œuvre 3.6.2 - Les professionnels respectent la sécurisation du circuit du médicament | D35: Interviewer les équipes médicales et soignantes : consultation et accessibilité
A36: 23 | B36: La réévaluation pluriprofessionnelle des traitements est organisée et fait l'objet d'un protocole écrit | C36: 3.6.1 - L'ESSMS définit sa stratégie de gestion du risque médicamenteux et s'assure de sa mise en œuvre | D36: Interviewer les équipes médicales et soignantes : consultation et accessibilité
A37: 24 | B37: Des actions sont mises en œuvre pour éviter tout risque de retranscription lors de la prescription à l'administration | C37: 3.6.1 - L'ESSMS définit sa stratégie de gestion du risque médicamenteux et s'assure de sa mise en œuvre | D37: Interviewer les équipes soignantes le circuit de l’ordonnance est organisé de manière à éviter la retranscription : disponibilité d'un poste dédié au médecin, possibilité de prescription à distance, connaissance des moments de consultation, “protocole de coopération”, téléconsultation.
A38: 25 | B38: Une procédure sur le stockage des médicaments existe. Les péremptions sont régulièrement vérifiées. | C38: 3.6.1 - L'ESSMS définit sa stratégie de gestion du risque médicamenteux et s'assure de sa mise en œuvre | D38: Interviewer les équipes médicales et soignantes : consultation et accessibilité
A39: Formation / Information
A40: 26 | B40: Les modalités de la prise en charge médicamenteuse de votre établissement sont expliquées lors de l'accueil d'un nouveau professionnel ou médecins traitants / intervenants remplaçants | C40: 3.8.2 - L'ESSMS met en œuvre un processus d'accueil et d'intégration des nouveaux professionnels et intervenants | D40: Interviewer les équipes médicales et soignantes et consultation documentaire : feuille d'émargement des formations pour les nouveaux arrivants, livret d'accueil, intranet, outils… Entretien avec l’ESSMS Un tutorat formalisé est mis en place pour les nouveaux salariés, le personnel intérimaire, les étudiants. A minima, un système documentaire permet de décrire le circuit du médicament au sein de l’ESMS (ex : livret d’accueil salarié, planning des tâches détaillé…). • L’ESSMS dispose d’un processus d’accueil et d’intégration des nouveaux professionnels et intervenants. • L’ESSMS s’assure de sa mise en oeuvre. Consultation documentaire • Tous les documents décrivant la procédure d’accueil des nouveaux arrivants (organisation, rôles et responsabilités)
A41: 27 | B41: L'établissement organise des formations et sensibilisations portant sur la sécurisation du circuit du médicament, y compris iatrogénie, identitovigilance et prise en charge de la douleur | C41: 3.6.5 - Les professionnels sont régulièrement sensibilisés et/ou formés à la prévention et à la gestion du risque médicamenteux | D41: Interviewer la direction. Taux de professionnels formés et thématiques Le plan de formation annuel intègre un item relatif à la prise en charge médicamenteuse notamment en lien avec les médicaments et situations à risque. Des formations spécifiques peuvent être réalisées en fonction des spécificités de l’ESSMS (troubles de la déglutition et prise médicamenteuse, modalités de collaboration notamment dans le cadre de l’aide à la prise (IDE – AS/AES/AP).
A42: 28 | B42: Les professionnels alertent les personnes-ressources en cas de risque identifié. Les professionnels surveillent les signes de non-observance et de iatrogénie médicamenteuse chez les personnes accompagnées. Une traçabilité et/ou une communication particulière vers le prescripteur est faite systématiquement | C42: 3.6.4 – Les professionnels alertent en cas de risque lié à la prise en charge médicamenteuse, dont la iatrogénie. | D42: Tous les éléments de traçabilité présents dans le dossier de la personne accompagnée permettant de confirmer un système d’alerte, en cas de risque lié à la prise en charge médicamenteuse. Toute procédure décrivant la conduite à tenir en cas d’alerte ou d’évènement indésirable. Tous les éléments de traçabilité permettant d’alerter en cas de non-observance, de iatrogénie des médicaments : fiches de signalement, numéros d’urgence.

Sheet Audit dossiers FAM - MAS - EEAP
A8: Num | B8: Libellé | C8: Critère du référentiel concerné | D8: Dossier 1 | E8: Dossier 2 | F8: Dossier 3 | G8: Dossier 4 | H8: Dossier 5 | I8: Commentaire
A9: Dossier médical/Prescription/Traçabilité
A10: 1 | B10: Les allergies éventuelles à des médicaments des personnes accompagnées sont systématiquement mentionnées dans le dossier | C10: 3.6.2 - Les professionnels respectent la sécurisation du circuit du médicament
A11: 2 | B11: Le poids de la personne accompagnée est mesuré et indiqué dans son dossier à son entrée. Il est réévalué et indiqué dans le dossier régulièrement, selon la procédure interne en vigueur (au moins tous les mois) | C11: 3.6.2 - Les professionnels respectent la sécurisation du circuit du médicament
A12: 3 | B12: La fonction rénale de la personne accompagnée est évaluée à son entrée puis régulièrement selon l'âge et les comorbidités. Elle est notée dans le dossier de la personne accompagnée | C12: 3.6.2 - Les professionnels respectent la sécurisation du circuit du médicament
A13: 4 | B13: Toutes les prescriptions sont retrouvées sur un support unique prescription/administration (informatisé ou non) pour l'ensemble du traitement, sans retranscription | C13: 3.6.2 - Les professionnels respectent la sécurisation du circuit du médicament
A14: 5 | B14: La traçabilité des prises/administrations est conforme : le nombre de prises théoriques de la prescription, sur l'ensemble des jours de la semaine, est égal au nombre de prises réelles ou de non prises traçées dans le dossier | C14: 3.6.2 - Les professionnels respectent la sécurisation du circuit du médicament
A15: 6 | B15: Les prescriptions sont intégralement conformes aux bonnes pratiques (datées, lisibles, signées, identification du médecin et de la personne accompagnée, dosages, posologies, conditions d'administration, durées, voie d'administration pour les injectables) | C15: 3.6.2 - Les professionnels respectent la sécurisation du circuit du médicament
A16: 7 | B16: La prescription se fait préférentiellement en dénomination commune internationale (DCI). Lorsque la prescription mentionne les noms de spécialités, la DCI doit être aussi systématiquement indiquée | C16: 3.6.2 - Les professionnels respectent la sécurisation du circuit du médicament
A17: 8 | B17: Les prescriptions conditionnelles (si besoin) (exemples : antalgiques, antipsychotiques, etc.) détaillent clairement les modalités de prise, comportent une durée maximale de traitement, stipulent le nombre maximal d'administration par période de 24h avec l'intervalle temporel entre deux prises consécutives | C17: 3.6.2 - Les professionnels respectent la sécurisation du circuit du médicament
A18: 9 | B18: Des réévaluations régulières des traitements médicamenteux des personnes accompagnées sont effectuées en pluriprofessionnalité (médecin coordonnateur, médecins traitants, pharmacien référent, infirmières etc.) et sont tracées dans le dossier médical ou dossier de soins (au moins une fois/an) | C18: 3.6.2 - Les professionnels respectent la sécurisation du circuit du médicament
A19: 10 | B19: Les prescriptions nominatives de médicaments stupéfiants sont réalisées sur des ordonnances sécurisées (Pour chaque médicament soumis à la réglementation des stupéfiants, le LAP imprime la posologie en unité de prise après l'avoir traduite en toutes lettres) Référentiel fonctionnel de certification des logiciels hospitaliers d'aide à la prescription, validé par le Collège le 6 mai 2021 / Référentiel fonctionnel de certification des logiciels d'aide à la prescription en médecine ambulatoire, validé par le Collège le 25 mars 2021 | C19: 3.6.2 - Les professionnels respectent la sécurisation du circuit du médicament
A20: Coordination entre les partenaires/ Continuité de la prise en charge
A21: 11 | B21: En cas d'hospitalisation, il existe une fiche de liaison et/ou un dossier de liaison d'urgence (DLU) permettant notamment d'assurer la continuité de la prise en charge médicamenteuse | C21: 3.6.3 - Les professionnels accompagnent les personnes dans la continuité de leur prise en charge médicamenteuse. 3.6.2 - Les professionnels respectent la sécurisation du circuit du médicament
A22: 12 | B22: Lors d'un retour d'hospitalisation, une confrontation du traitement avant et au retour dans l'établissement est effectuée (pharmacien référent, médecin, infirmier). Toute modification est tracée dans le dossier de la personne accompagnée | C22: 3.6.3 - Les professionnels accompagnent les personnes dans la continuité de leur prise en charge médicamenteuse. 3.6.2 - Les professionnels respectent la sécurisation du circuit du médicament
A23: Prise en charge par neuroleptique
A24: 13 | B24: La galénique est adaptée en fonction de l'acceptabilité du patient (les formes per os sont privilégiées et les formes injectables réservées aux urgences et refus de prises per os) | C24: 3.6.2 - Les professionnels respectent la sécurisation du circuit du médicament
A25: 14 | B25: Une réévaluation du rapport bénéfice/risque est régulièrement effectuée et tracée dans le dossier patient (a minima une fois/an) | C25: 3.6.2 - Les professionnels respectent la sécurisation du circuit du médicament 1.15.7 - Les professionnels tiennent compte du rapport bénéfice/risque pour proposer des modalités d'accompagnement adaptées à la santé de la personne
A26: 15 | B26: Une surveillance des effets indésirables (clinique, paraclinique et biologique) est mise en œuvre et adaptée aux facteurs de risque/âge de la personne accompagnée/molécule (exemples : ECG, pression artérielle, poids, IMC, périmètre abdominal, glycémie, ionogramme sanguin, bilan hépatique, bilan rénal, bilan lipidique, NFS, plaquettes, prolactinémie, transit, appétit) | C26: 3.6.2 - Les professionnels respectent la sécurisation du circuit du médicament
A27: 16 | B27: Pour les Neuroleptiques à Action prolongée (NLAP), un suivi des injections (retraçant l'historique des administrations) est disponible | C27: 3.6.2 - Les professionnels respectent la sécurisation du circuit du médicament
A28: Prise en charge par benzodiazépine
A29: 17 | B29: Une réévaluation du rapport bénéfice/risque est régulièrement effectuée et tracée dans le dossier de la personne accompagnée (exemples : recherche des effets secondaires : chute, troubles du comportement, dépendance physique et psychique etc.) (a minima une fois/an) | C29: 3.6.2 - Les professionnels respectent la sécurisation du circuit du médicament 1.15.7 - Les professionnels tiennent compte du rapport bénéfice/risque pour proposer des modalités d'accompagnement adaptées à la santé de la personne
A30: Prise en charge par antidépresseur
A31: 18 | B31: Une réévaluation du rapport bénéfice/risque est régulièrement effectuée et tracée dans le dossier de la personne accompagnée (a minima une fois/an) | C31: 3.6.2 - Les professionnels respectent la sécurisation du circuit du médicament 1.15.7 - Les professionnels tiennent compte du rapport bénéfice/risque pour proposer des modalités d'accompagnement adaptées à la santé de la personne
A32: 19 | B32: Une surveillance des effets indésirables (clinique, paraclinique et biologique) est mise en œuvre et adaptée aux facteurs de risque/âge de la personne accompagnée/molécule (exemples : ECG, pression artérielle, poids, ionogramme sanguin, bilan hépatique, NFS, interactions médicamenteuses,etc.) | C32: 3.6.2 - Les professionnels respectent la sécurisation du circuit du médicament
A33: Prise en charge des troubles de la déglutition
A34: 20 | B34: Une recherche de difficultés de déglutition, est réalisée sur signes d'appel, par un professionnel habilité/formé au dépistage des troubles de la déglutition (orthophoniste, ORL, ergothérapeute, kiné, etc.). Les éventuels troubles de déglutition de la personne accompagnée sont indiqués dans son dossier | C34: 2.4.4 - Les professionnels adaptent le projet d'accompagnement aux risques de dénutrition, malnutrition et/ou des troubles de la déglutition auxquels la personne est confrontée.
A35: 21 | B35: Chez une personne accompagnée présentant des troubles de la déglutition, la recherche d'alternatives galéniques (solution buvable, comprimé orodispersible, forme sublinguale) ou d'alternatives thérapeutiques est systématiquement réalisée | C35: 2.4.4 - Les professionnels adaptent le projet d'accompagnement aux risques de dénutrition, malnutrition et/ou des troubles de la déglutition auxquels la personne est confrontée.
A36: 22 | B36: L'acte d'écrasement des médicaments/ouverture des gélules est systématiquement prescrit. | C36: 2.4.4 - Les professionnels adaptent le projet d'accompagnement aux risques de dénutrition, malnutrition et/ou des troubles de la déglutition auxquels la personne est confrontée.
A37: Prise en charge médicamenteuse de l'épilepsie
A38: 23 | B38: Il a été tracé dans le dossier des personnes accompagnées en âge de procréer, qu'une réflexion sur la mise en place d'une contraception efficace a été menée, compte tenu du risque de malformations congénitales. | C38: 2.4.5 - Les professionnels adaptent le projet d'accompagnement aux risques liés à la sexualité auxquels la personne est confrontée
A39: 24 | B39: Dans le dossier de la personne accompagnée, il est retrouvé un protocole individuel de gestion des crises d'épilepsie (en cas d'épilepsie non équilibrée) ou il existe un protocole institutionnel auquel se référer en cas de crise | C39: 1.15.6- Les professionnels repèrent de manière précoce les risques en santé pour la personne accompagnée et alertent les personnes-ressources
A40: Prévention et prise en charge médicamenteuse de l'ostéoporose
A41: 25 | B41: Compte tenu du risque de perturbation du métabolisme phosphocalcique et de déminéralisation osseuse chez les personnes accompagnées (exemples : polyhandicap, psychiatrie, déficit nutritionnel, traitement au long cours par neuroleptiques, antiépileptiques : carbamazépine, phénobarbital, phénytoïne, etc.), une évaluation des facteurs de risque d'ostéoporose est effectuée et un traitement préventif est mis en place si nécessaire | C41: 3.6.2 - Les professionnels respectent la sécurisation du circuit du médicament
A42: Prise en charge de la douleur
A43: 26 | B43: L’expression de la personne accompagnée sur sa douleur est favorisée tout au long de son accompagnement. Une traçabilité de la prise en compte de sa douleur est retrouvée dans son dossier | C43: 1.16.1 - La personne s’exprime sur la manière dont sont prises en charge ses douleurs tout au long de son accompagnement.
A44: 27 | B44: Une évaluation de la douleur est systématiquement réalisée à l'entrée et réévaluée à l'aide d'une échelle validée et adaptée (échelle d'hétéro-évaluation: ECPA, algoplus, GED-DI, San Salvadour, DN4... et/ou échelle d'auto-évaluation : EVA... ) | C44: 1.16.2 - Les professionnels repèrent et/ou évaluent régulièrement et tracent les douleurs de la personne accompagnée selon des modalités adaptées 1.16.3 - Les professionnels recueillent, auprès de l’entourage, des informations sur les manifestations habituelles des douleurs chez la personne accompagnée.
A45: 28 | B45: Des techniques non médicamenteuses de gestion de la douleur sont recherchées à l'initiation du traitement et lors des réévaluations régulières (position fauteuil, kinésithérapie, TENS, etc.) | C45: 1.16.5 - Les professionnels alertent et/ou mobilisent tous les moyens nécessaires pour soulager la douleur de la personne accompagnée.
A46: 29 | B46: La traçabilité des prises/administrations des prescriptions conditionnelles d'antalgiques est conforme : si les antalgiques prescrits de manière conditionnelle sont donnés, la traçabilité de la prise est effectuée dans le dossier du patient | C46: 3.6.2 - Les professionnels respectent la sécurisation du circuit du médicament
A47: 30 | B47: Les intervalles de temps entre les doses d'antalgiques sont respectés ainsi que les doses maximales (exemple : paracétamol 500 mg à 1 g toutes les 4 à 6h) | C47: 3.6.2 - Les professionnels respectent la sécurisation du circuit du médicament
...

Sheet Audit terrain
A8: Stratégie de la prise en charge médicamenteuse (PECM)
A9: Num | B9: Libellé | C9: Critère concerné | D9: Personne rencontrée | E9: Eléments d'appréciation | F9: Cotation | G9: Commentaire
A10: Evènements indésirables
A11: 1 | B11: Une fiche de déclaration d'évènement indésirable médicamenteux est connue des professionnels | C11: 3.13.1 - L'ESSMS organise le recueil et le traitement des évènements indésirables | D11: Cadre/IDE/AS/médecin… | E11: Interroger minimum 2 catégories socio-professionnelles différentes. Connaissance des procédures et description des modalités pratiques
A12: 2 | B12: Pour encourager la déclaration des erreurs médicamenteuses, la charte "d'incitation à la déclaration" est connue des professionnels | C12: 3.13.4 - Les professionnels sont régulièrement sensibilisés et/ou formés à la gestion des évènements indésirables | D12: Cadre/IDE/AS/médecin… | E12: Interroger minimum 2 catégories socio-professionnelles différentes. Connaissance des procédures et modalité de diffusion
A13: 3 | B13: Des réunions d'analyses collectives sur les évènements indésirables sont organisées | C13: 3.13.3 - Les professionnels déclarent et analysent en équipe les évènements indésirables et mettent en place des actions correctives | D13: Cadre/IDE/AS/médecin… | E13: Interroger minimum 2 catégories socio-professionnelles différentes. Connaissance des procédures et éventuelle formation des équipes aux analyses
A14: 4 | B14: Les professionnels ont connaissance des actions correctives décidées durant les réunions pluridisciplinaires d'analyse collectives des évènements indésirables | C14: 3.13.2 - L'ESSMS communique sur le traitement des évènements indésirables auprès des parties prenantes | D14: Cadre/IDE/AS/médecin… | E14: Interroger minimum 2 catégories socio-professionnelles différentes. Accessibilité et éventuelle association des équipes pour proposer des actions correctives
A15: Protocoles / procédures
A16: 5 | B16: La procédure générale et les protocoles sur l'ensemble du processus de prise en charge médicamenteuse sont accessibles et connus par les équipes médicales et soignantes | C16: 3.6.1 - L'ESSMS définit sa stratégie de gestion du risque médicamenteux et s'assure de sa mise en œuvre 3.8.6 - Les professionnels sont régulièrement sensibilisés et/ou formés aux RBPP, procédures et références spécifiques à leur cadre d’intervention | D16: Cadre/IDE/AS/médecin… | E16: Interroger minimum 2 catégories socio-professionnelles différentes. Connaissance des procédures et accessibilité
A17: 6 | B17: Il existe une procédure/protocole formalisant l'organisation et la continuité de la PECM en cas de sorties temporaires (à la journée, week-end famille, transfert, vacances adaptées etc.). Exemples : protocole concernant la sécurisation et la distribution des traitements médicamenteux lors des sorties temporaires (qui prépare les piluliers ? qui aide à la prise ? modalités de traçabilité des prises ? etc.) | C17: 3.6.1 - L'ESSMS définit sa stratégie de gestion du risque médicamenteux et s'assure de sa mise en œuvre 3.8.6 - Les professionnels sont régulièrement sensibilisés et/ou formés aux RBPP, procédures et références spécifiques à leur cadre d’intervention | D17: Cadre/IDE/AS/médecin… | E17: Interroger minimum 2 catégories socio-professionnelles différentes. Connaissance des procédures et accessibilité
A18: 7 | B18: Il existe une liste des médicaments préférentiels (Livret thérapeutique) définie en concertation avec le médecin coordonnateur, les médecins traitants et le pharmacien gérant de la PUI ou le pharmacien de l'officine ayant passé convention avec l'ESSMS | C18: 3.6.1 - L'ESSMS définit sa stratégie de gestion du risque médicamenteux et s'assure de sa mise en œuvre 3.8.6 - Les professionnels sont régulièrement sensibilisés et/ou formés aux RBPP, procédures et références spécifiques à leur cadre d’intervention | D18: Médecin/IDE/Cadre… | E18: Interroger minimum 2 catégories socio-professionnelles différentes. Existence et connaissance de la liste et voir son accessibilité
A19: 8 | B19: La convention avec la pharmacie d'officine, ou la procédure avec la PUI, correspond aux pratiques réelles | C19: 3.6.1 - L'ESSMS définit sa stratégie de gestion du risque médicamenteux et s'assure de sa mise en œuvre | D19: Cadre/IDE/AS/médecin… | E19: Connaissance des procédures et accessibilité. Les liens organisationnels sont conformes avec la convention ou la procédure
A20: Projet d'accompagnement
A21: 9 | B21: La personne accompagnée est associée à la gestion de son traitement médicamenteux | C21: 1.15.4 - La personne est actrice de ses choix sur son accompagnement en santé, la stratégie thérapeutique et les soins qui lui sont proposés | D21: Cadre/IDE/AS… | E21: Interroger minimum 2 catégories socio-professionnelles différentes. Les changements de traitements sont expliqués à la personne accompagnée et/ou à sa famille ?
A22: 10 | B22: Lors de l'entrée de la personne accompagnée, ou lors du retour d'une hospitalisation intercurrente, les modifications du traitement (arrêt, substitution ou modification) réalisées à son entrée ou au cours de son hospitalisation sont expliquées à la personne accompagnée et/ou à la famille/entourage | C22: 1.15.4 - La personne est actrice de ses choix sur son accompagnement en santé, la stratégie thérapeutique et les soins qui lui sont proposés | D22: Cadre/IDE/AS… | E22: Interroger minimum 2 catégories socio-professionnelles différentes. Modalité connue
A23: 11 | B23: Les personnes accompagnées présentant des risques dans la prise en charge médicamenteuse sont identifiées | C23: 3.6.3 - Les professionnels accompagnent les personnes dans la continuité de leur prise en charge médicamenteuse | D23: Cadre/IDE/AS… | E23: Interroger minimum 2 catégories socio-professionnelles différentes. Connaissance et accessibilité de l'information
A25: Mise en œuvre de la PECM
A26: Num | B26: Libellé | C26: Critère concerné | D26: Personne rencontrée | E26: Eléments d'appréciation | F26: Cotation | G26: Commentaire
A27: Prescription / Dispensation
A28: 12 | B28: Les prescriptions orales sont limitées aux urgences vitales | C28: 3.6.2 - Les professionnels respectent la sécurisation du circuit du médicament | D28: Médecin | E28: Interroger minimum 2 catégories socio-professionnelles différentes. Modalité connue
A29: 13 | B29: L'accès au logiciel de prescription est sécurisé par un identifiant et un mot de passe confidentiels et reservés exclusivement à chaque prescripteur | C29: 3.6.2 - Les professionnels respectent la sécurisation du circuit du médicament 3.15.2 - L'ESSMS définit et déploie sa stratégie numérique | D29: Médecin | E29: Interroger minimum 2 catégories socio-professionnelles différentes. Voir accessibilité
A30: 14 | B30: Le personnel connait les horaires d'ouverture de la pharmacie. Les modalités de dépannage sont formalisées et connues en dehors des horaires d'ouverture de la pharmacie (astreinte, dotation pour besoins urgents) | C30: 3.6.1 - L'ESSMS définit sa stratégie de gestion du risque médicamenteux et s'assure de sa mise en œuvre | D30: Cadre/IDE/AS/médecin… | E30: Interroger minimum 2 catégories socio-professionnelles différentes. Connaissance et accessibilité
A31: 15 | B31: L'ESSMS a pris les dispositions adéquates pour que le pharmacien accède aux informations nécessaires pour analyser l'ordonnance. Le pharmacien réalise une analyse pharmaceutique au regard des ordonnances originales et des données biologiques. Ces avis pharmaceutiques sont tracés dans le dossier de la personne accompagnée avec information de l'équipe | C31: 3.6.2 - Les professionnels respectent la sécurisation du circuit du médicament | D31: Pharmacien | E31: Interroger minimum 2 catégories socio-professionnelles différentes. Connaissance et accessibilité à l'information
A32: 16 | B32: Les retraits de lot sont mis en œuvre dès publication de l'alerte | C32: 3.6.2 - Les professionnels respectent la sécurisation du circuit du médicament | D32: Pharmacien | E32: Interroger minimum 2 catégories socio-professionnelles différentes. Connaissance et accessibilité à l'information
A33: 17 | B33: Les délivrances nominatives arrivent dans des contenants scellés (bacs, tiroirs, casiers, sachets…) adaptés au mode de rangement de l'établissement | C33: 3.6.2 - Les professionnels respectent la sécurisation du circuit du médicament | D33: Cadre/IDE/Pharmacien… | E33: Interroger minimum 2 catégories socio-professionnelles différentes. Connaissance et accessibilité Pour PUI : observer également les délivrances globalisées qui doivent être sécurisées
A34: 18 | B34: Si un médicament n'est pas délivré, le pharmacien vous en donne la raison et propose une substitution au médecin traitant. L'intervention est tracée | C34: 3.6.2 - Les professionnels respectent la sécurisation du circuit du médicament | D34: Cadre/IDE/ Pharmacien/Médecin… | E34: Interroger minimum 2 catégories socio-professionnelles différentes. Connaissance et accessibilité à l'information
A35: Préparation / Administration
A36: 19 | B36: Les préparations des doses à administrer sont réalisées conformément à la réglementation (personnel habilité, local et condition de travail adaptés) | C36: 3.6.1 - L'ESSMS définit sa stratégie de gestion du risque médicamenteux et s'assure de sa mise en œuvre 3.6.2 - Les professionnels respectent la sécurisation du circuit du médicament | D36: Cadre/IDE/Pharmacien… | E36: Interroger minimum 2 catégories socio-professionnelles différentes. Connaissance des procédures et description des pratiques professionnelles
A37: 20 | B37: La préparation des doses à administrer respecte la période de préparation : - sur maximum 7 jours si les médicaments sont déconditionnés (sortis de leur blister, leur stabilité n'est plus garantie) - jusqu'à 28 jours toléré, si le conditionnement primaire de tous les médicaments est conservé, mais période supérieure à 7 jours à éviter car complique les modifications du traitement | C37: 3.6.1 - L'ESSMS définit sa stratégie de gestion du risque médicamenteux et s'assure de sa mise en œuvre 3.6.2 - Les professionnels respectent la sécurisation du circuit du médicament | D37: Cadre/IDE/Pharmacien… | E37: Interroger minimum 2 catégories socio-professionnelles différentes. Connaissance des procédures et description des pratiques professionnelles
A38: 21 | B38: A l'ESSMS comme à la pharmacie (officine ou PUI), une organisation a été mise en œuvre pour limiter le plus possible l'interruption de tâche de la personne en charge de la préparation des doses à administrer | C38: 3.6.2 - Les professionnels respectent la sécurisation du circuit du médicament | D38: Cadre/IDE/Pharmacien… | E38: Interroger minimum 2 catégories socio-professionnelles différentes. Connaissance des procédures et description des pratiques professionnelles
A39: 22 | B39: Un double contrôle des tiroirs ou piluliers préparés est effectué | C39: 3.6.2 - Les professionnels respectent la sécurisation du circuit du médicament | D39: Cadre/IDE/Pharmacien… | E39: Interroger minimum 2 catégories socio-professionnelles différentes. Connaissance des procédures et description des pratiques professionnelles. Observer si possible
A40: 23 | B40: La préparation et l'administration des médicaments sont faites au regard de la prescription initiale, et non d'une retranscription de cette prescription | C40: 3.6.2 - Les professionnels respectent la sécurisation du circuit du médicament | D40: Cadre/IDE/Pharmacien… | E40: Interroger minimum 2 catégories socio-professionnelles différentes. Connaissance des procédures et description des pratiques professionnelles. Observer si possible
A41: 24 | B41: Le pilulier utilisé pour apporter les doses à administrer jusqu'à la personne accompagnée est identifié avec nom, prénom, date de naissance, jour et moment de prise, éventuellement photo de la personne accompagnée | C41: 3.6.2 - Les professionnels respectent la sécurisation du circuit du médicament | D41: Cadre/IDE/Pharmacien… | E41: Interroger minimum 2 catégories socio-professionnelles différentes. Connaissance des procédures et description des pratiques professionnelles. Observer si possible
A42: 25 | B42: En cas d'utilisation de pot / gobelet / cupule propre, le contenant doit prévenir tout risque lié à l'identitovigilance : identification sur le godet et non le couvercle du nom, prénom, date de naissance de la personne accompagnée…(pour éviter les erreurs d'identification par échange accidentel de couvercles) En cas de contenant réutilisable, les modalités de nettoyage entre chaque utilisation sont définies | C42: 3.6.2 - Les professionnels respectent la sécurisation du circuit du médicament | D42: Cadre/IDE/Pharmacien… | E42: Interroger minimum 2 catégories socio-professionnelles différentes. Connaissance des procédures et description des pratiques professionnelles. Observer si possible
A43: 26 | B43: Les dimensions du tiroir ou pilulier sont adaptées au volume des produits et au moment de prise | C43: 3.6.2 - Les professionnels respectent la sécurisation du circuit du médicament | D43: Cadre/IDE/Pharmacien… | E43: Observer
A44: 27 | B44: Les tiroirs sont visuellement propres (nettoyage organisé) | C44: 3.6.2 - Les professionnels respectent la sécurisation du circuit du médicament | D44: Cadre/IDE/Pharmacien… | E44: Observer
A45: 28 | B45: A l'intérieur du tiroir ou pilulier, tous les médicaments sont identifiables INDIVIDUELLEMENT (nom du médicament, dosage, numéro de lot, date de péremption…) | C45: 3.6.2 - Les professionnels respectent la sécurisation du circuit du médicament | D45: Cadre/IDE/Pharmacien… | E45: Observer
A46: 29 | B46: Les médicaments en "si besoin" sont rangés : - dans le casier nominatif de chaque personne accompagnée - et éventuellement dans le chariot d'administration ; chaque boite est identifiée avec nom, prénom et date de naissance de la personne accompagnée de manière à éviter les confusions de médicaments et de dosage | C46: 3.6.2 - Les professionnels respectent la sécurisation du circuit du médicament | D46: Cadre/IDE/Pharmacien… | E46: Interroger minimum 2 catégories socio-professionnelles différentes. Connaissance des procédures et description des pratiques professionnelles. Observer si possible
A47: 30 | B47: En cas de modification d'un traitement (remplacement, suppression), le médicament concerné est immédiatement (et avant la prise suivante) remplacé ou retiré du pilulier de la personne accompagnée | C47: 3.6.2 - Les professionnels respectent la sécurisation du circuit du médicament | D47: Cadre/IDE/Pharmacien… | E47: Interroger minimum 2 catégories socio-professionnelles différentes. Connaissance des procédures et description des pratiques professionnelles. Observer si possible
... A66: 49 | B66: Dans le cas où la personne accompagnée est autonome, les IDE, médecins ou le pharmacien lui expliquent le traitement, les consignes particulières de prises (avant, pendant, après le repas...) et s'assurent de sa compréhension | C66: 1.15.4 - La personne est actrice de ses choix sur son accompagnement en santé, la stratégie thérapeutique et les soins qui lui sont proposés | D66: Cadre/IDE/AS/Médecin/Pharmacien | E66: Interroger minimum 2 catégories socio-professionnelles différentes. Connaissance des procédures et description des pratiques professionnelles. Observer si possible
...

Sheet Résultats
B9: RESULTAT PAR ONGLET
B11: AUDIT FLASH | C11: % d'avancement de la démarche d'amélioration | G11: AUDIT DOSSIERS | H11: % de conformité | J11: AUDIT TERRAIN | K11: % de conformité
B12: Date de réalisation de l'audit flash | C12: ='Audit flash'!$E10 -> ../../…. | D12: ='Audit flash'!$F10 -> ../../…. | E12: ='Audit flash'!$G10 -> ../../…. | G12: Moyenne globale | H12: ='Fichier analyses'!$S3 -> NC | J12: Stratégie de la PECM | K12: ='Fichier analyses'!$Y3 -> NC
B13: Résultat de l'audit flash | C13: ='Fichier analyses'!$G3 -> NC | D13: ='Fichier analyses'!$H5 -> NC | E13: ='Fichier analyses'!$I3 -> NC | J13: Evènements indésirables | K13: ='Fichier analyses'!$Y5 -> NC
B14: Stratégie et enjeux de la sécurisation de la PECM | C14: ='Fichier analyses'!$G5 -> NC | D14: ='Fichier analyses'!$H5 -> NC | E14: ='Fichier analyses'!$I5 -> NC | J14: Protocoles / procédures | K14: ='Fichier analyses'!$Y10 -> NC
B15: Evènements indésirables | C15: ='Fichier analyses'!$G20 -> NC | D15: ='Fichier analyses'!$H20 -> NC | E15: ='Fichier analyses'!$I20 -> NC | J15: Projet d'accompagnement | K15: ='Fichier analyses'!$Y15 -> NC
B16: Protocoles / procédures | C16: ='Fichier analyses'!$G26 -> NC | D16: ='Fichier analyses'!$H26 -> NC | E16: ='Fichier analyses'!$I26 -> NC | J16: Mise en œuvre de la PECM | K16: ='Fichier analyses'!$Y19 -> NC
B17: Formation / Information | C17: ='Fichier analyses'!$G33 -> NC | D17: ='Fichier analyses'!$H33 -> NC | E17: ='Fichier analyses'!$I33 -> NC | J17: Prescription / Dispensation | K17: ='Fichier analyses'!$Y20 -> NC
J18: Préparation / Administration | K18: ='Fichier analyses'!$Y28 -> NC
J19: Stockage | K19: ='Fichier analyses'!$Y60 -> NC
B21: RESULTAT GLOBAL
B23: Stratégie de la PECM | C23: ='Fichier analyses'!$AF3 -> NC
B24: Stratégie et enjeux de la sécurisation de la PECM | C24: ='Fichier analyses'!$AF5 -> NC
B25: Evènements indésirables | C25: ='Fichier analyses'!$AF20 -> NC
B26: Protocoles / procédures | C26: ='Fichier analyses'!$AF30 -> NC
B27: Projet d'accompagnement | C27: ='Fichier analyses'!$AF41 -> NC
B28: Formation / Information | C28: ='Fichier analyses'!$AF45 -> NC
B30: Mise en œuvre de la PECM | C30: ='Fichier analyses'!$AF49 -> NC
B31: Prescription / Dispensation | C31: ='Fichier analyses'!AF50 -> NC
B32: Préparation / Administration | C32: ='Fichier analyses'!AF68 -> NC
B33: Surveillance | C33: ='Fichier analyses'!AF100 -> NC
B34: Stockage | C34: ='Fichier analyses'!AF128 -> NC
B36: LIEN AVEC LES CRITERES DU NOUVEAU REFERENTIEL
B37: (Critères impératifs indiqués en jaune)
B38: Thématique : Accompagnement à la santé
B40: Objectif 1.15 - La personne est actrice de ses choix sur son accompagnement en santé, la stratégie thérapeutique et les soins qui lui sont proposés | K40: ='Fichier analyses'!$AM3 -> NC
B41: CRIT 1.15.4 – La personne accompagnée est associée à la gestion de son traitement médicamenteux pour favoriser sa compréhension et son adhésion et s’assurer de sa continuité | K41: ='Fichier analyses'!$AM4 -> NC
B42: CRIT 1.15.6 – Les professionnels repèrent de manière précoce les risques en santé pour la personne accompagnée et alertent les personnes ressources | K42: ='Fichier analyses'!$AM8 -> NC
B43: CRIT 1.15.7 – Les professionnels tiennent compte du rapport bénéfice/risque pour proposer des modalités d'accompagnement adaptées à la santé de la personne | K43: ='Fichier analyses'!$AM11 -> NC
B44: Objectif 1.16 - La personne accompagnée bénéficie d'une prise en charge de ses douleurs | K44: ='Fichier analyses'!$AM16 -> NC
B45: CRIT 1.16.1 – La personne s’exprime sur la manière dont sont prises en charge ses douleurs tout au long de son accompagnement | K45: ='Fichier analyses'!$AM17 -> NC
B46: CRIT 1.16.2 – Les professionnels repèrent et/ou évaluent régulièrement et tracent les douleurs de la personne accompagnée selon des modalités adaptées | K46: ='Fichier analyses'!$AM19 -> NC
B47: CRIT 1.16.3 – Les professionnels recueillent, auprès de l’entourage, des informations sur les manifestations habituelles des douleurs chez la personne accompagnée | K47: ='Fichier analyses'!$AM21 -> NC
B48: CRIT 1.16.4 – Les professionnels coconstruisent avec la personne accompagnée, la stratégie de prise en charge de la douleur | K48: ='Fichier analyses'!$AM23 -> NC
B49: CRIT 1.16.5 – Les professionnels alertent et/ou mobilisent tous les moyens nécessaires pour soulager la douleur de la personne accompagnée | K49: ='Fichier analyses'!$AM25 -> NC
B50: Objectif 3.6 - L'ESSMS définit et déploie sa stratégie de gestion du risque médicamenteux | K50: ='Fichier analyses'!$AM34 -> NC
B51: CRIT 3.6.1 – L’ESSMS définit sa stratégie de gestion du risque médicamenteux et s’assure de sa mise en œuvre | K51: ='Fichier analyses'!$AM35 -> NC
B52: CRIT 3.6.2 – Les professionnels respectent la sécurisation du circuit du médicament (critère impératif) | K52: ='Fichier analyses'!$AM64 -> NC
B53: CRIT 3.6.3 – Les professionnels accompagnent les personnes dans la continuité de leur prise en charge médicamenteuse | K53: ='Fichier analyses'!$AM149 -> NC
B54: CRIT 3.6.4 – Les professionnels alertent en cas de risque lié à la prise en charge médicamenteuse, dont la iatrogénie | K54: ='Fichier analyses'!$AM153 -> NC
...

Sheet Plan d'actions
I1: Non commencée
I2: En cours
I3: Décalée
I4: Clos
A8: N° | B8: LIBELLE | C8: COTATION | D8: ACTIONS D'AMELIORATIONS | E8: PILOTE | F8: ECHEANCE | G8: STATUT DE L'ACTION
A10: AUDIT FLASH
A12: Stratégie de la prise en charge médicamenteuse (PECM)
A13: Stratégie et enjeux de la sécurisation de la prise en charge médicamenteuse (PECM)
A14: ='Audit flash'!A12 -> 1 | B14: ='Audit flash'!B12 -> Une politique de gestion du risque médicamenteux est présentée dans le projet d'établissement, le projet de soin | C14: ='Fichier analyses'!J6 -> NC
A15: ='Audit flash'!A13 -> 2 | B15: ='Audit flash'!B13 -> L'organisation du circuit du médicament est abordée dans le cadre du conseil de la vie sociale | C15: ='Fichier analyses'!J7 -> NC
A16: ='Audit flash'!A14 -> 3 | B16: ='Audit flash'!B14 -> Existe-t-il un référent PECM identifié et connu au sein de l'établissement | C16: ='Fichier analyses'!J8 -> NC
A17: ='Audit flash'!A15 -> 4 | B17: ='Audit flash'!B15 -> L'établissement a communiqué en interne sur les enjeux de la sécurisation de la PECM et les risques d'erreurs médicamenteuses | C17: ='Fichier analyses'!J9 -> NC
A18: ='Audit flash'!A16 -> 5 | B18: ='Audit flash'!B16 -> L'établissement a schématisé les étapes du circuit du médicament. Ce schéma est à jour et est facilement consultable par tous | C18: ='Fichier analyses'!J10 -> NC
A19: ='Audit flash'!A17 -> 6 | B19: ='Audit flash'!B17 -> L'établissement a constitué et réuni un comité PECM | C19: ='Fichier analyses'!J11 -> NC
A20: ='Audit flash'!A18 -> 7 | B20: ='Audit flash'!B18 -> Le médecin coordonnateur, en lien avec le pharmacien référent, définit les objectifs spécifiques à votre établissement pour améliorer certaines pratiques de prescription (médicament potentiellement inapproprié comme IPP, psychotropes..., adaptation de posologie /forme galénique…) | C20: ='Fichier analyses'!J12 -> NC
A21: ='Audit flash'!A19 -> 8 | B21: ='Audit flash'!B19 -> L'établissement réalise une évaluation de la PECM avec une périodicité définie | C21: ='Fichier analyses'!J13 -> NC
A22: ='Audit flash'!A20 -> 9 | B22: ='Audit flash'!B20 -> Un plan d'action personnalisé est mis en place à la suite d'un auto-diagnostic, de l'analyse des évènements indésirables et des situations à risque | C22: ='Fichier analyses'!J14 -> NC
A23: ='Audit flash'!A21 -> 10 | B23: ='Audit flash'!B21 -> Les personnes accompagnées présentant des risques dans la prise en charge médicamenteuse sont identifiées | C23: ='Fichier analyses'!J15 -> NC
A24: ='Audit flash'!A22 -> 11 | B24: ='Audit flash'!B22 -> Les professionnels dans votre établissement ont coconstruit la stratégie de prise en charge de la douleur des personnes accompagnées avec une réévaluation régulière | C24: ='Fichier analyses'!J16 -> NC
A25: ='Audit flash'!A23 -> 12 | B25: ='Audit flash'!B23 -> Vous avez identifié dans votre établissement des médicaments "à risque" (psychotrope, anticoagulant, insuline, médicament stupéfiant ou assimilé stupéfiant (ex: Morphine, Oxycodone, Fentanyl, Midazolam…) et mis en place des dispositions spécifiques de gestion / préparation / administration | C25: ='Fichier analyses'!J17 -> NC
... A27: ='Audit flash'!A25 -> 14 | B27: ='Audit flash'!B25 -> Pour les établissements sans pharmacie à usage interne (PUI), une convention relative aux prestations pharmaceutiques existe entre votre établissement et la pharmacie d'officine. Pour les établissements avec PUI, une procédure définit les liens organisationnels avec la PUI | C27: ='Fichier analyses'!J19 -> NC
A28: ='Audit flash'!A26 -> Evènements indésirables
A29: ='Audit flash'!A27 -> 15 | B29: ='Audit flash'!B27 -> Une fiche de signalement des évènements indésirables médicamenteux est à disposition des professionnels | C29: ='Fichier analyses'!J21 -> NC
A30: ='Audit flash'!A28 -> 16 | B30: ='Audit flash'!B28 -> L'équipe soignante est sensibilisée et incitée au signalement des évènements indésirables liés aux médicaments ou dispositifs médicaux. Une procédure existe, est connue et facilement consultable. Une charte d'incitation à la déclaration ou document équivalent existe | C30: ='Fichier analyses'!J22 -> NC
A31: ='Audit flash'!A29 -> 17 | B31: ='Audit flash'!B29 -> Une analyse collective des évènements indésirables est organisée. Un plan d'action avec pilote, suivi et délai est mis en place | C31: ='Fichier analyses'!J23 -> NC
A32: ='Audit flash'!A30 -> 18 | B32: ='Audit flash'!B30 -> Une communication sur le traitement des évènements indésirables est organisée | C32: ='Fichier analyses'!J24 -> NC
A33: ='Audit flash'!A31 -> 19 | B33: ='Audit flash'!B31 -> Les évènements indésirables graves médicamenteux sont signalés sur le portail national | C33: ='Fichier analyses'!J25 -> NC
A34: ='Audit flash'!A32 -> Protocoles / procédures
A35: ='Audit flash'!A33 -> 20 | B35: ='Audit flash'!B33 -> Il existe une procédure générale et des protocoles sur l'ensemble du processus de prise en charge médicamenteuse définissant les responsabilités de chacun, actualisés/revalidés régulièrement autant que besoin. Il existe une procédure sur les pratiques en terme de distribution, d'administration, d'aide à la prise et de surveillance des personnes accompagnées, de gestion des médicaments en gouttes, de traçabilité (vérification des piluliers, aide à la prise, etc.), de stockage des médicaments Ces documents sont accessibles et connus par les équipes médicales et soignantes | C35: ='Fichier analyses'!J27 -> NC
A36: ='Audit flash'!A34 -> 21 | B36: ='Audit flash'!B34 -> Un protocole décrit la conduite à tenir en cas d'impossibilité d'accéder au logiciel informatique de soins ou de prescriptions (panne informatique, panne réseau…) | C36: ='Fichier analyses'!J28 -> NC
A37: ='Audit flash'!A35 -> 22 | B37: ='Audit flash'!B35 -> Une liste préférentielle des médicaments est élaborée (liste des médicaments à utiliser préférentiellement, par classes pharmaco-thérapeutiques) et connue par les médecins traitants et l'équipe soignante | C37: ='Fichier analyses'!J29 -> NC
A38: ='Audit flash'!A36 -> 23 | B38: ='Audit flash'!B36 -> La réévaluation pluriprofessionnelle des traitements est organisée et fait l'objet d'un protocole écrit | C38: ='Fichier analyses'!J30 -> NC
A39: ='Audit flash'!A37 -> 24 | B39: ='Audit flash'!B37 -> Des actions sont mises en œuvre pour éviter tout risque de retranscription lors de la prescription à l'administration | C39: ='Fichier analyses'!J31 -> NC
A40: ='Audit flash'!A38 -> 25 | B40: ='Audit flash'!B38 -> Une procédure sur le stockage des médicaments existe. Les péremptions sont régulièrement vérifiées. | C40: ='Fichier analyses'!J32 -> NC
A41: ='Audit flash'!A39 -> Formation / Information
A42: ='Audit flash'!A40 -> 26 | B42: ='Audit flash'!B40 -> Les modalités de la prise en charge médicamenteuse de votre établissement sont expliquées lors de l'accueil d'un nouveau professionnel ou médecins traitants / intervenants remplaçants | C42: ='Fichier analyses'!J34 -> NC
A43: ='Audit flash'!A41 -> 27 | B43: ='Audit flash'!B41 -> L'établissement organise des formations et sensibilisations portant sur la sécurisation du circuit du médicament, y compris iatrogénie, identitovigilance et prise en charge de la douleur | C43: ='Fichier analyses'!J35 -> NC
A44: ='Audit flash'!A42 -> 28 | B44: ='Audit flash'!B42 -> Les professionnels alertent les personnes-ressources en cas de risque identifié. Les professionnels surveillent les signes de non-observance et de iatrogénie médicamenteuse chez les personnes accompagnées. Une traçabilité et/ou une communication particulière vers le prescripteur est faite systématiquement | C44: ='Fichier analyses'!J36 -> NC
A47: AUDIT DOSSIERS
A49: ='Audit dossiers FAM - MAS - EEAP'!A9:I9 -> Dossier médical/Prescription/Traçabilité
...

Sheet Fichier analyses
A2: Onglet Audit flash | M2: Onglet Audit dossiers | U2: Onglet Audit terrain | AA2: Compilation 3 onglets | AH2: Critères du nouveau référentiel sur la PECM | AO2: Graphique Résultat Global "Sans NC"
